BEGIN:VCALENDAR
METHOD:PUBLISH
PRODID:-//github.com/ical-org/ical.net//NONSGML ical.net 5.2.0//EN
VERSION:2.0
X-WR-CALNAME:the-good-boy
X-WR-TIMEZONE:Australia/Sydney
BEGIN:VEVENT
DESCRIPTION:The Good Boy: 
DTSTAMP:20260422T100521Z
DTSTART:20260701T140000Z
LOCATION:45 St. Pauls Street\, Randwick\, NSW 2031
SEQUENCE:0
SUMMARY:Ritz Cinemas: The Good Boy
UID:8b20397c-e416-48d0-8d57-a92d0550a066
END:VEVENT
END:VCALENDAR
