BEGIN:VCALENDAR
METHOD:PUBLISH
PRODID:-//github.com/ical-org/ical.net//NONSGML ical.net 5.2.0//EN
VERSION:2.0
X-WR-CALNAME:penny-lane-is-dead
X-WR-TIMEZONE:Australia/Sydney
BEGIN:VEVENT
DESCRIPTION:Penny Lane Is Dead: 
DTSTAMP:20260424T093036Z
DTSTART:20260722T140000Z
LOCATION:45 St. Pauls Street\, Randwick\, NSW 2031
SEQUENCE:0
SUMMARY:Ritz Cinemas: Penny Lane Is Dead
UID:9e23b63e-a7f9-4e28-80ee-08a5812cac1e
END:VEVENT
END:VCALENDAR
