BEGIN:VCALENDAR
METHOD:PUBLISH
PRODID:-//github.com/ical-org/ical.net//NONSGML ical.net 5.2.0//EN
VERSION:2.0
X-WR-CALNAME:in-the-mood-for-love-2000
X-WR-TIMEZONE:Australia/Sydney
BEGIN:VEVENT
DESCRIPTION:In The Mood For Love (2000): A film by Wong Kar-wai
DTSTAMP:20260421T161051Z
DTSTART:20260521T140000Z
LOCATION:45 St. Pauls Street\, Randwick\, NSW 2031
SEQUENCE:0
SUMMARY:Ritz Cinemas: In The Mood For Love (2000)
UID:945ebb7d-f431-4b0e-a4f6-dad598fedf28
END:VEVENT
END:VCALENDAR
