BEGIN:VCALENDAR
METHOD:PUBLISH
PRODID:-//github.com/ical-org/ical.net//NONSGML ical.net 5.2.0//EN
VERSION:2.0
X-WR-CALNAME:human-forever
X-WR-TIMEZONE:Australia/Sydney
BEGIN:VEVENT
DESCRIPTION:Human Forever: The award-winning international sensation docume
 ntary that is reshaping how we think about dementia.24-year-old humanitari
 an activist and author Teun Toebes has a mission: to improve the quality o
 f life of people living with dementia. As the number of people with dement
 ia is set to double in the next 20 years\, Teun's quest is not a question\
 , but a necessity.
DTSTAMP:20260422T122755Z
DTSTART:20260606T140000Z
LOCATION:45 St. Pauls Street\, Randwick\, NSW 2031
SEQUENCE:0
SUMMARY:Ritz Cinemas: Human Forever
UID:022d6b7c-5598-43fb-a1c8-a833e25f6ea0
END:VEVENT
END:VCALENDAR
