BEGIN:VCALENDAR
METHOD:PUBLISH
PRODID:-//github.com/ical-org/ical.net//NONSGML ical.net 5.2.0//EN
VERSION:2.0
X-WR-CALNAME:fffa-the-good-boy
X-WR-TIMEZONE:Australia/Sydney
BEGIN:VEVENT
DESCRIPTION:FFFA: The Good Boy: A 19-year-old criminal\, Tommy\, is kidnapp
 ed and forced into a rehabilitation process by a dysfunctional couple\, Ch
 ris and Kathryn\, who try to make him a "good boy." Tommy must find a way 
 to escape.
DTSTAMP:20260421T092236Z
DTSTART:20260701T140000Z
LOCATION:45 St. Pauls Street\, Randwick\, NSW 2031
SEQUENCE:0
SUMMARY:Ritz Cinemas: FFFA: The Good Boy
UID:5dba0c9a-3db8-41e5-941c-0772a8f1df0b
END:VEVENT
END:VCALENDAR
