BEGIN:VCALENDAR
METHOD:PUBLISH
PRODID:-//github.com/ical-org/ical.net//NONSGML ical.net 5.2.0//EN
VERSION:2.0
X-WR-CALNAME:all-my-friends-are-back-in-brisbane
X-WR-TIMEZONE:Australia/Sydney
BEGIN:VEVENT
DESCRIPTION:All My Friends Are Back in Brisbane: After being dumped by her 
 fiancé in London\, a lawyer returns home to Brisbane and finds herself wo
 rking with the now-married ex-boyfriend she left a decade earlier.
DTSTAMP:20260422T125439Z
DTSTART:20260617T140000Z
LOCATION:45 St. Pauls Street\, Randwick\, NSW 2031
SEQUENCE:0
SUMMARY:Ritz Cinemas: All My Friends Are Back in Brisbane
UID:c37463a9-0176-4262-83d4-47eebf382ac9
END:VEVENT
END:VCALENDAR
